BEGIN:VCALENDAR
VERSION:2.0
PRODID:-//Retsch//Event Calendar//sk
BEGIN:VEVENT
UID:event-18@retsch.com.uat.vs-web.net
DTSTAMP:20260419T162703Z
DTSTART;VALUE=DATE:20260428
DTEND;VALUE=DATE:20260429
SUMMARY:Lab Supply | Münster
DESCRIPTION:<p style="text-align: left;">LAB-SUPPLY sú sériou
 regionálnych praktických obchodných veľtrhov pre inštrumentálnu
 analýzu, laboratórnu technológiu, chemikálie a life science, ktoré
 ponúkajú poznatky, prednášky a najnovšie inovácie v odvetví.</p>
LOCATION:Münster, Germany
URL:https://www.lab-supply.info/
END:VEVENT
END:VCALENDAR