BEGIN:VCALENDAR
VERSION:2.0
PRODID:-//Retsch//Event Calendar//sk
BEGIN:VEVENT
UID:event-22@retsch.com.uat.vs-web.net
DTSTAMP:20260419T162332Z
DTSTART;VALUE=DATE:20260709
DTEND;VALUE=DATE:20260710
SUMMARY:Lab Supply | Graz
DESCRIPTION:<p style="text-align: left;">LAB-SUPPLY sú sériou
 regionálnych praktických obchodných veľtrhov pre inštrumentálnu
 analýzu, laboratórnu technológiu, chemikálie a life science, ktoré
 ponúkajú poznatky, prednášky a najnovšie inovácie v odvetví.</p>
LOCATION:Graz, Austria
URL:https://en.b2bmarketing.vogel.de/pages/lab-supply-2026
END:VEVENT
END:VCALENDAR