BEGIN:VCALENDAR
VERSION:2.0
PRODID:-//Retsch//Event Calendar//cs
BEGIN:VEVENT
UID:event-25@retsch.com.uat.vs-web.net
DTSTAMP:20260419T144700Z
DTSTART;VALUE=DATE:20261103
DTEND;VALUE=DATE:20261104
SUMMARY:Lab Supply | Hamburg
DESCRIPTION:<p style="text-align: left;">LAB-SUPPLY je série
 regionálních praktických veletrhů instrumentální analýzy,
 laboratorní techniky, chemických látek a biologických věd, které
 nabízejí postřehy, přednášky a nejnovější inovace v oboru.</p>
LOCATION:Hamburg, Germany
URL:https://en.b2bmarketing.vogel.de/pages/lab-supply-2026
END:VEVENT
END:VCALENDAR